BEGIN:VCALENDAR
VERSION:2.0
PRODID:-//Eco Fest Fort Wayne - ECPv6.15.20//NONSGML v1.0//EN
CALSCALE:GREGORIAN
METHOD:PUBLISH
X-WR-CALNAME:Eco Fest Fort Wayne
X-ORIGINAL-URL:https://ecofestfw.com
X-WR-CALDESC:Events for Eco Fest Fort Wayne
REFRESH-INTERVAL;VALUE=DURATION:PT1H
X-Robots-Tag:noindex
X-PUBLISHED-TTL:PT1H
BEGIN:VTIMEZONE
TZID:America/Indiana/Indianapolis
BEGIN:DAYLIGHT
TZOFFSETFROM:-0500
TZOFFSETTO:-0400
TZNAME:EDT
DTSTART:20250309T070000
END:DAYLIGHT
BEGIN:STANDARD
TZOFFSETFROM:-0400
TZOFFSETTO:-0500
TZNAME:EST
DTSTART:20251102T060000
END:STANDARD
BEGIN:DAYLIGHT
TZOFFSETFROM:-0500
TZOFFSETTO:-0400
TZNAME:EDT
DTSTART:20260308T070000
END:DAYLIGHT
BEGIN:STANDARD
TZOFFSETFROM:-0400
TZOFFSETTO:-0500
TZNAME:EST
DTSTART:20261101T060000
END:STANDARD
BEGIN:DAYLIGHT
TZOFFSETFROM:-0500
TZOFFSETTO:-0400
TZNAME:EDT
DTSTART:20270314T070000
END:DAYLIGHT
BEGIN:STANDARD
TZOFFSETFROM:-0400
TZOFFSETTO:-0500
TZNAME:EST
DTSTART:20271107T060000
END:STANDARD
END:VTIMEZONE
BEGIN:VEVENT
DTSTART;TZID=America/Indiana/Indianapolis:20260422T100000
DTEND;TZID=America/Indiana/Indianapolis:20260422T120000
DTSTAMP:20260422T020551
CREATED:20260326T230755Z
LAST-MODIFIED:20260326T230920Z
UID:2742-1776852000-1776859200@ecofestfw.com
SUMMARY:Earth Day 2026 – Our Power\, Our Planet™
DESCRIPTION:EARTH DAY 2026 “Our Power\, Our Planet™”Join Us for a Community Celebration! \nCome Celebrate Earth Day With Us!Youth Leadership & Community EngagementEnvironmental & Sustainability UpdatesSummer Youth Works Program KickoffScholarship Recognition \nHosted By: \nPilgrim’s Progress Community Development Corporation (PPCDC)PBC Green Team | SAVE Fort Wayne Promise Club \nFeatured Speakers: \n\nKerry Korpela will provide updates on the City of Fort Wayne’s Climate Action Plan and the Lead Pipe Replacement Program\, highlighting efforts to improve environmental health and infrastructure.\nEleanore Igew will share updates on the Community Benefit Plan\, including insights related to neighborhood investment\, the Google project\, and ongoing work in the East Central community.\n\nCommunity Impact: \nEarth Day 2026 reflects a broader commitment to: \nThe event is expected to draw residents\, community leaders\, youth participants\, and local partners committed to building a more sustainable and equitable future. \nPilgrim’s Progress Community Development Corporation (PPCDC) is a Fort Wayne-based nonprofit serving the East Central neighborhood through youth development\, environmental programs\, workforce training\, and community engagement initiatives. \nMedia Contact: \nSheila Curry-CampbellProgram DirectorPilgrim’s Progress Community Development Corporation📧 ppcdc@pbcgreenteam.org \n📞 260-740-7810🌐 pbcgreenteam.org
URL:https://ecofestfw.com/event/earth-day-2026-our-power-our-planet/
LOCATION:Pilgrim Baptist Church of Fort Wayne\, 1331 Gay Street\, Fort Wayne\, Indiana\, 46803\, United States
END:VEVENT
BEGIN:VEVENT
DTSTART;TZID=America/Indiana/Indianapolis:20260422T100000
DTEND;TZID=America/Indiana/Indianapolis:20260422T120000
DTSTAMP:20260422T020551
CREATED:20260406T183410Z
LAST-MODIFIED:20260406T183411Z
UID:2821-1776852000-1776859200@ecofestfw.com
SUMMARY:Spring Cleanup
DESCRIPTION:Help beautify our preserves during spring cleaning! All supplies and snacks provided. Celebrate Earth Day with a cleanup!
URL:https://ecofestfw.com/event/spring-cleanup/
LOCATION:Hanging Rock National Natural Landmark\, 4552 E. Hanging Rock Road\, Lagro\, Indiana\, 46941\, United States
ATTACH;FMTTYPE=image/webp:https://ecofestfw.com/wp-content/uploads/2026/04/Untitled-design-23-c3b37c4f4d8e4585ba44420c43267ee0.webp
END:VEVENT
BEGIN:VEVENT
DTSTART;TZID=America/Indiana/Indianapolis:20260422T100000
DTEND;TZID=America/Indiana/Indianapolis:20260422T180000
DTSTAMP:20260422T020551
CREATED:20260415T183649Z
LAST-MODIFIED:20260415T183650Z
UID:2889-1776852000-1776880800@ecofestfw.com
SUMMARY:Earth Day @ Vessel Refillery
DESCRIPTION:Celebrate Earth Day with us at Vessel Refillery. \nBring your own vessel\, we weigh it\, you fill it with the good stuff\, we weigh it again… and you get 20% off your refill just for showing up prepared. \nIt’s that simple. Less waste\, more savings\, and a reason to finally use those jars you’ve been holding onto. (We see you jar hoarders) \nStock up on everyday essentials like soaps\, body wash\, shampoo and conditioner\, laundry detergent\, multipurpose cleaners\, room sprays\, carpet deodorizer\, all-purpose scrubs\, and more.
URL:https://ecofestfw.com/event/earth-day-vessel-refillery/
LOCATION:Vessel Refillery\, 10812 Coldwater Road\, Suite 100\, Fort Wayne\, Indiana\, 46845\, United States
ATTACH;FMTTYPE=image/webp:https://ecofestfw.com/wp-content/uploads/2026/04/Copy-of-Your-pargraph-text-6ef89d55675080f52c6aec4d03651b2f.webp
END:VEVENT
BEGIN:VEVENT
DTSTART;TZID=America/Indiana/Indianapolis:20260422T180000
DTEND;TZID=America/Indiana/Indianapolis:20260422T210000
DTSTAMP:20260422T020551
CREATED:20260409T234159Z
LAST-MODIFIED:20260409T234200Z
UID:2849-1776880800-1776891600@ecofestfw.com
SUMMARY:Gardening for Native Pollinators
DESCRIPTION:Gain an overview of our native pollinators and discover techniques that we can use to lure them to work for us in our gardens\, while also providing season-appropriate habitats for them in our outdoor spaces.
URL:https://ecofestfw.com/event/gardening-for-native-pollinators/
LOCATION:PFW Doermer School of Business\, 3000 E Coliseum Blvd.\, Fort Wayne\, Indiana\, 46805\, United States
ATTACH;FMTTYPE=image/webp:https://ecofestfw.com/wp-content/uploads/2026/04/Celebrate-on-April-22nd-f000a06cf6a9be8abc2799ce526baae7.webp
ORGANIZER;CN="Plant Happiness LLC":MAILTO:plantingseedsofhappiness@gmail.com
END:VEVENT
END:VCALENDAR